BEGIN:VCALENDAR
VERSION:2.0
PRODID:DPCALENDAR
CALSCALE:GREGORIAN
BEGIN:VTIMEZONE
TZID:Europe/Berlin
X-MICROSOFT-CDO-TZID:4
BEGIN:STANDARD
DTSTART:20251026T010000
TZOFFSETFROM:+0200
TZOFFSETTO:+0100
TZNAME:CET
END:STANDARD
BEGIN:STANDARD
DTSTART:20261025T010000
TZOFFSETFROM:+0200
TZOFFSETTO:+0100
TZNAME:CET
END:STANDARD
BEGIN:DAYLIGHT
DTSTART:20260329T010000
TZOFFSETFROM:+0100
TZOFFSETTO:+0200
TZNAME:CEST
END:DAYLIGHT
END:VTIMEZONE
X-WR-TIMEZONE:Europe/Berlin
BEGIN:VEVENT
DTSTART;TZID=Europe/Berlin:20180113T134500
DTEND;TZID=Europe/Berlin:20180113T141500
UID:2E74C49F-2C4C-4E58-B250-6035D4266A58
SUMMARY:16. Mittelhessisches Rettungssymposium
CREATED:20170614T133211Z
DTSTAMP:20170614T133211Z
URL:https://www.drk-buedingen.de/component/dpcalendar/event/50.html?calid=30
DESCRIPTION:Am 13. und 14. Januar 2018 findet zum 16. Mal das Mittelhessische Rettungsdienst-Symposium statt, dieses Mal in der Technischen Hochschule Mittelhessen.Am 13. und 14. Januar 2018 findet zum 16. Mal das Mittelhessische Rettungsdienst-Symposium statt, dieses Mal in der Technischen Hochschule Mittelhessen, Campus Gießen. Veranstalter ist der gemeinsame Qualitätszirkel Notfallmedizin der Landkreise Marburg-Biedenkopf und Gießen. Im Rahmen des Symposiums findet auch die Jahrestagung der Arbeitsgemeinschaft in Hessen tätiger Notärzte (AGHN) statt. 
X-ALT-DESC;FMTTYPE=text/html:<p><strong>Am 13. und 14. Januar 2018 findet zum 16. Mal das Mittelhessische Rettungsdienst-Symposium statt, dieses Mal in der Technischen Hochschule Mittelhessen.</strong></p><p>Am 13. und 14. Januar 2018 findet zum 16. Mal das Mittelhessische Rettungsdienst-Symposium statt, dieses Mal in der Technischen Hochschule Mittelhessen, Campus Gießen. Veranstalter ist der gemeinsame Qualitätszirkel Notfallmedizin der Landkreise Marburg-Biedenkopf und Gießen. Im Rahmen des Symposiums findet auch die Jahrestagung der Arbeitsgemeinschaft in Hessen tätiger Notärzte (AGHN) statt. </p>
X-ACCESS:1
X-HITS:23
X-COLOR:3366CC
X-IMAGE-FULL:http://placehold.it/660x440
X-SHOW-END-TIME:1
END:VEVENT
BEGIN:VEVENT
DTSTART;TZID=Europe/Berlin:20180211T090000
DTEND;TZID=Europe/Berlin:20180211T180000
UID:7BD469BF-820C-49CC-817E-88A57BF2AD6D
SUMMARY:Tag des Notrufs am 11. Februar
CREATED:20170502T191802Z
DTSTAMP:20170502T191802Z
URL:https://www.drk-buedingen.de/component/dpcalendar/event/48.html?calid=30
DESCRIPTION:Noch immer wissen viel zu wenige Menschen in Europa, welche Telefonnummer sie im Notfall wählen müssen. Um den Bekanntheitsgrad der europaweiten 112 Notrufnummer zu erhöhen, wurde der 11. März zum Europäischen Tag.\NNotruf 112\N„Leider erleben wir es in der Praxis immer wieder, dass auch Menschen im Freistaat nicht wissen, dass sie im Notfall den Notruf für Rettungsdienst und Feuerwehr europaweit wählen können“, erklärt Landesgeschäftsführer Leonhard Stärk und beruft sich auf die Beobachtungen der Mitarbeiter im Rettungsdienst. „Dabei kann die 112 lebensrettend sein. Die Nummer ist europaweit vorwahlfrei, kostenlos und wird im Funk- und Festnetz mit Vorrang behandelt, verbindet Sie mit der örtlich zuständigen Leitstelle und funktioniert in jedem Mobilfunknetz, auch wenn Ihr Netz an Ihrem aktuellen Standort gerade nicht verfügbar ist.“\NKlar ist: Wenn Menschen in Not sind, muss es schnell gehen. Doch welche Beschwerden sind ein Notfall? Stellvertretender Landesarzt Dr. med. Florian Meier: „Viele Patienten sind unsicher bei welchen Symptomen sie die 112 anrufen sollen.“ Eindeutiger Fakt: Die 112 muss gewählt werden, wenn es lebensgefährlich wird. Dazu gehören schwere Unfälle, Feuer, Vergiftungen, Schmerzen in der Brust, Störungen der Sprache, Lähmungserscheinungen, Störungen des Bewusstseins, Kreislaufkollaps, Atemnot, starker Blutverlust, starke Schmerzen und andere lebensbedrohliche Situationen.“, so Dr. Florian Meier.\NDie wesentlichen Fragen\NDie Integrierte Leitstelle für Rettungsdienst- und Feuerwehralarmierungen fragt die wichtigsten Daten ab: Was ist wo geschehen? Welche Verletzungen oder Erkrankungen liegen vor? Wer meldet den Notruf? Wer ist verletzt?  Danach sollte man nicht auflegen, sondern Rückfragen der Leitstelle abwarten. Seit 2014 sind alle Mitarbeiter der Integrierten Leitstellen darüber hinaus speziell geschult und können im Falle eines  Kreislaufstillstandes eine Reanimation durch Laienhelfer über das Notruftelefon anleiten. „Ein immenser Fortschritt, der bereits lebensrettend war und schon mehrfach erfolgreich war“, so Dr. Florian Meier.\NInsgesamt 520.000-mal wurden die Retter im vergangenen Jahr in Bayern zu Notfalleinsätzen gerufen. Und manchmal sogar ganz unabsichtlich - durch einen Fehlalarm vom Handy. Sogenannte Hosentaschenanrufe sorgen in den Leitstellen für Rettungsdienst- und Feuerwehralarmierung oft für Aufregung und Stress. . „Relativ häufig erhalten wir diese Anrufe, weil das Handy in der Hosentasche, manchmal in der Zusammenwirkung mit einem Schlüsselbund, die 112 selbst aktiviert. Dann ist niemand dran. Dennoch müssen die Mitarbeiter diesen Anrufen nachgehen  und das ist ein unnötiger und nicht unerheblicher Aufwand.“\NÄrztlicher Bereitschaftsdienst in Bayern\NIn vielen Fällen geht es nicht um Minuten, da reicht es aus den Ärztlichen Bereitschaftsdienst zu rufen. Meier: „Bei nicht lebensbedrohlichen Beschwerden hilft der Hausarzt oder- wenn dieser nicht dienstbereit ist - der Ärztliche Bereitschaftsdienst unter der Nummer 116 117, das ist die kostenfreie bundesweite Bereitschaftsdienstnummer.“\NDer Bereitschaftsdienst der Kassenärztlichen Vereinigungen ist für Patienten gedacht, die außerhalb der Sprechzeiten des Hausarztes eine dringende ambulante Behandlung benötigen – sich aber nicht in einer lebensbedrohlichen Situation befinden. Neben speziellen Bereitschaftsdienstpraxen bieten viele Kassenärztliche Vereinigungen auch einen Hausbesuchsdienst an. Meier: „Die Vermittlungsnummer 116 117 des ärztlichen Bereitschaftsdienstes ist der richtige Kontakt beispielsweise bei hohem Fieber in der Nacht oder einer akuten Magenverstimmung am Wochenende.“\NBei einem lebensbedrohenden Notfall fassen die sogenannten 5-W-Fragen die wesentlichen Inhalte eines Notrufs zusammen:\NWas ist passiert?\NJe nachdem, ob es sich um einen Unfall, ein Feuer oder eine technische Hilfeleistung handelt, werden unterschiedliche Fahrzeuge alarmiert - beim Müllcontainerbrand kommt die Feuerwehr mit einem Löschfahrzeug, bei einem Unfall oder einem Notfall zu Hause kommt der Notarzt und die Mitarbeiter des Rettungsdienstes.\NWo ist es passiert?\NHier ist die exakte Straßenbezeichnung und die Hausnummer unerlässlich, auch der Ort, in dem der Notfall passiert ist. Sonst kann es zu Verwechslungen kommen, weil im Leitstellenbereich mehrere "Hauptstraßen" oder "Bahnhofsstraßen" existieren.\NWie viele verletzte/betroffene Personen sind es?\NVom einzelnen Fußgänger bis zum vollbesetzten Bus – je nach der Anzahl der Betroffenen werden unterschiedlich viele Fahrzeuge alarmiert. Je genauer die Meldung, umso schneller kann allen geholfen werden.\NWer ruft an?\NEs ist für die Retter manchmal notwendig, wenn die Leitstelle den Anrufer nochmals kontaktieren kann.\NWarten auf Rückfragen\NJeder ist aufgeregt und angestrengt bei der Meldung eines Notrufs. Legen Sie erst auf, wenn die Leitstellenmitarbeiter sagen, dass sie alle Informationen haben.
X-ALT-DESC;FMTTYPE=text/html:<p><strong>Noch immer wissen viel zu wenige Menschen in Europa, welche Telefonnummer sie im Notfall wählen müssen. Um den Bekanntheitsgrad der europaweiten 112 Notrufnummer zu erhöhen, wurde der 11. März zum Europäischen Tag.</strong></p><p><strong>Notruf 112</strong></p><p>„Leider erleben wir es in der Praxis immer wieder, dass auch Menschen im Freistaat nicht wissen, dass sie im Notfall den Notruf für Rettungsdienst und Feuerwehr europaweit wählen können“, erklärt Landesgeschäftsführer Leonhard Stärk und beruft sich auf die Beobachtungen der Mitarbeiter im Rettungsdienst. „Dabei kann die 112 lebensrettend sein. Die Nummer ist europaweit vorwahlfrei, kostenlos und wird im Funk- und Festnetz mit Vorrang behandelt, verbindet Sie mit der örtlich zuständigen Leitstelle und funktioniert in jedem Mobilfunknetz, auch wenn Ihr Netz an Ihrem aktuellen Standort gerade nicht verfügbar ist.“</p><p>Klar ist: Wenn Menschen in Not sind, muss es schnell gehen. Doch welche Beschwerden sind ein Notfall? Stellvertretender Landesarzt Dr. med. Florian Meier: „Viele Patienten sind unsicher bei welchen Symptomen sie die 112 anrufen sollen.“ Eindeutiger Fakt: Die 112 muss gewählt werden, wenn es lebensgefährlich wird. Dazu gehören schwere Unfälle, Feuer, Vergiftungen, Schmerzen in der Brust, Störungen der Sprache, Lähmungserscheinungen, Störungen des Bewusstseins, Kreislaufkollaps, Atemnot, starker Blutverlust, starke Schmerzen und andere lebensbedrohliche Situationen.“, so Dr. Florian Meier.</p><p><strong>Die wesentlichen Fragen</strong></p><p>Die Integrierte Leitstelle für Rettungsdienst- und Feuerwehralarmierungen fragt die wichtigsten Daten ab: Was ist wo geschehen? Welche Verletzungen oder Erkrankungen liegen vor? Wer meldet den Notruf? Wer ist verletzt?  Danach sollte man nicht auflegen, sondern Rückfragen der Leitstelle abwarten. Seit 2014 sind alle Mitarbeiter der Integrierten Leitstellen darüber hinaus speziell geschult und können im Falle eines  Kreislaufstillstandes eine Reanimation durch Laienhelfer über das Notruftelefon anleiten. „Ein immenser Fortschritt, der bereits lebensrettend war und schon mehrfach erfolgreich war“, so Dr. Florian Meier.</p><p>Insgesamt 520.000-mal wurden die Retter im vergangenen Jahr in Bayern zu Notfalleinsätzen gerufen. Und manchmal sogar ganz unabsichtlich - durch einen Fehlalarm vom Handy. Sogenannte Hosentaschenanrufe sorgen in den Leitstellen für Rettungsdienst- und Feuerwehralarmierung oft für Aufregung und Stress. . „Relativ häufig erhalten wir diese Anrufe, weil das Handy in der Hosentasche, manchmal in der Zusammenwirkung mit einem Schlüsselbund, die 112 selbst aktiviert. Dann ist niemand dran. Dennoch müssen die Mitarbeiter diesen Anrufen nachgehen  und das ist ein unnötiger und nicht unerheblicher Aufwand.“</p><p><strong>Ärztlicher Bereitschaftsdienst in Bayern</strong></p><p>In vielen Fällen geht es nicht um Minuten, da reicht es aus den Ärztlichen Bereitschaftsdienst zu rufen. Meier: „Bei nicht lebensbedrohlichen Beschwerden hilft der Hausarzt oder- wenn dieser nicht dienstbereit ist - der Ärztliche Bereitschaftsdienst unter der Nummer 116 117, das ist die kostenfreie bundesweite Bereitschaftsdienstnummer.“</p><p>Der Bereitschaftsdienst der Kassenärztlichen Vereinigungen ist für Patienten gedacht, die außerhalb der Sprechzeiten des Hausarztes eine dringende ambulante Behandlung benötigen – sich aber nicht in einer lebensbedrohlichen Situation befinden. Neben speziellen Bereitschaftsdienstpraxen bieten viele Kassenärztliche Vereinigungen auch einen Hausbesuchsdienst an. Meier: „Die Vermittlungsnummer 116 117 des ärztlichen Bereitschaftsdienstes ist der richtige Kontakt beispielsweise bei hohem Fieber in der Nacht oder einer akuten Magenverstimmung am Wochenende.“</p><p>Bei einem lebensbedrohenden Notfall fassen die sogenannten 5-W-Fragen die wesentlichen Inhalte eines Notrufs zusammen:</p><p><strong>Was ist passiert?</strong></p><p>Je nachdem, ob es sich um einen Unfall, ein Feuer oder eine technische Hilfeleistung handelt, werden unterschiedliche Fahrzeuge alarmiert - beim Müllcontainerbrand kommt die Feuerwehr mit einem Löschfahrzeug, bei einem Unfall oder einem Notfall zu Hause kommt der Notarzt und die Mitarbeiter des Rettungsdienstes.</p><p><strong>Wo ist es passiert?</strong></p><p>Hier ist die exakte Straßenbezeichnung und die Hausnummer unerlässlich, auch der Ort, in dem der Notfall passiert ist. Sonst kann es zu Verwechslungen kommen, weil im Leitstellenbereich mehrere "Hauptstraßen" oder "Bahnhofsstraßen" existieren.</p><p><strong>Wie viele verletzte/betroffene Personen sind es?</strong></p><p>Vom einzelnen Fußgänger bis zum vollbesetzten Bus – je nach der Anzahl der Betroffenen werden unterschiedlich viele Fahrzeuge alarmiert. Je genauer die Meldung, umso schneller kann allen geholfen werden.</p><p><strong>Wer ruft an?</strong></p><p>Es ist für die Retter manchmal notwendig, wenn die Leitstelle den Anrufer nochmals kontaktieren kann.</p><p><strong>Warten auf Rückfragen</strong></p><p>Jeder ist aufgeregt und angestrengt bei der Meldung eines Notrufs. Legen Sie erst auf, wenn die Leitstellenmitarbeiter sagen, dass sie alle Informationen haben.</p>
LAST-MODIFIED:20170614T132901Z
SEQUENCE:3694259
X-ACCESS:1
X-HITS:88
X-COLOR:3366CC
X-IMAGE-FULL:http://placehold.it/660x440
X-SHOW-END-TIME:1
END:VEVENT
BEGIN:VEVENT
DTSTART;TZID=Europe/Berlin:20191205T170000
DTEND;TZID=Europe/Berlin:20191205T210000
UID:D9075BF9-163E-41FF-9FF5-B154FF81A708
SUMMARY:Vorsitzender der oberbayerischen Wasserwacht wird verabschiedet
CREATED:20170502T191454Z
DTSTAMP:20170502T191454Z
URL:https://www.drk-buedingen.de/component/dpcalendar/event/47.html?calid=30
DESCRIPTION:Am 5. Dezember wird der Vorsitzende der oberbayerischen Wasserwacht, Erwin Müller, feierlich aus seinem Amt verabschiedet. Nach über zehn Jahren gibt Müller den Vorsitz an seinen Nachfolger Peter Schmidt ab.\NRund 300 bis 500 Stunden ehrenamtliche Arbeit pro Jahr habe er für die Wasserwacht gearbeitet, wie Müller in seiner Abschiedsrede sagte. Während seiner Dienstzeit konnten 136 Personen vor dem Ertrinken gerettet werden. Rund 1500 Kinder lernten bei der Wasserwacht Oberbayern das Schwimmen.\NDer Festakt findet im Haus der Wasserwacht Oberbayern, Seestraße 1, 12345 Seehausen von 17 bis 21 Uhr statt.
X-ALT-DESC;FMTTYPE=text/html:<p><strong>Am 5. Dezember wird der Vorsitzende der oberbayerischen Wasserwacht, Erwin M&uuml;ller, feierlich aus seinem Amt verabschiedet. Nach &uuml;ber zehn Jahren gibt M&uuml;ller den Vorsitz an seinen Nachfolger Peter Schmidt ab.</strong></p><p>Rund 300 bis 500 Stunden ehrenamtliche Arbeit pro Jahr habe er f&uuml;r die Wasserwacht gearbeitet, wie M&uuml;ller in seiner Abschiedsrede sagte. W&auml;hrend seiner Dienstzeit konnten 136 Personen vor dem Ertrinken gerettet werden. Rund 1500 Kinder lernten bei der Wasserwacht Oberbayern das Schwimmen.</p><p>Der Festakt findet im Haus der Wasserwacht Oberbayern, Seestra&szlig;e 1, 12345 Seehausen von 17 bis 21 Uhr statt.</p>
LAST-MODIFIED:20170520T100823Z
SEQUENCE:1522409
X-ACCESS:1
X-HITS:347
X-COLOR:3366CC
X-IMAGE-FULL:http://placehold.it/660x440
X-SHOW-END-TIME:1
END:VEVENT
BEGIN:VEVENT
DTSTART;TZID=Europe/Berlin:20200109T170000
DTEND;TZID=Europe/Berlin:20200109T190000
UID:30F06A5B-B0F9-467D-A90D-85A9E4DE6F21
SUMMARY:Training Wasserwacht
CREATED:20170614T133409Z
DTSTAMP:20170614T133409Z
URL:https://www.drk-buedingen.de/component/dpcalendar/event/51.html?calid=30
DESCRIPTION:Das nächste Training der Wasserwacht Eberswalde findet am 6. Dezember statt. Auch in der kalten Jahreszeit ist es wichtig, die Rettung Ertrinkender immer wieder zu üben...\NDas nächste Training der Wasserwacht Eberswalde findet am 6. Dezember statt. Auch in der kalten Jahreszeit ist es wichtig, die Rettung Ertrinkender immer wieder zu üben - schließlich steht die Eislauf-Saison vor der Tür. Darum liegt der Schwerpunkt des Trainings auf der Rettung aus vereisten Seen. Nach der Trainingsstunde können sich die Teilnehmer bei Glühwein am Lagerfeuer aufwärmen.\NTrainiert wird von 17 bis 19 Uhr, Seestraße 1, 17555 Eberswalde
X-ALT-DESC;FMTTYPE=text/html:<p><strong>Das nächste Training der Wasserwacht Eberswalde findet am 6. Dezember statt. Auch in der kalten Jahreszeit ist es wichtig, die Rettung Ertrinkender immer wieder zu üben...</strong></p><p>Das nächste Training der Wasserwacht Eberswalde findet am 6. Dezember statt. Auch in der kalten Jahreszeit ist es wichtig, die Rettung Ertrinkender immer wieder zu üben - schließlich steht die Eislauf-Saison vor der Tür. Darum liegt der Schwerpunkt des Trainings auf der Rettung aus vereisten Seen. Nach der Trainingsstunde können sich die Teilnehmer bei Glühwein am Lagerfeuer aufwärmen.</p><p><strong>Trainiert wird von 17 bis 19 Uhr, Seestraße 1, 17555 Eberswalde</strong></p>
X-ACCESS:1
X-HITS:271
X-COLOR:3366CC
X-IMAGE-FULL:http://placehold.it/660x440
X-SHOW-END-TIME:1
END:VEVENT
END:VCALENDAR